BEGIN:VCALENDAR
VERSION:2.0
PRODID:-//AGOP MYRTALI - ECPv6.5.2//NONSGML v1.0//EN
CALSCALE:GREGORIAN
METHOD:PUBLISH
X-WR-CALNAME:AGOP MYRTALI
X-ORIGINAL-URL:https://agopmyrtali.gr
X-WR-CALDESC:AGOP MYRTALI - Εκδηλώσεις
REFRESH-INTERVAL;VALUE=DURATION:PT1H
X-Robots-Tag:noindex
X-PUBLISHED-TTL:PT1H
BEGIN:VTIMEZONE
TZID:Europe/Athens
BEGIN:DAYLIGHT
TZOFFSETFROM:+0200
TZOFFSETTO:+0300
TZNAME:EEST
DTSTART:20250330T010000
END:DAYLIGHT
BEGIN:STANDARD
TZOFFSETFROM:+0300
TZOFFSETTO:+0200
TZNAME:EET
DTSTART:20251026T010000
END:STANDARD
END:VTIMEZONE
BEGIN:VEVENT
DTSTART;VALUE=DATE:20251128
DTEND;VALUE=DATE:20251202
DTSTAMP:20260424T023852
CREATED:20251108T192048Z
LAST-MODIFIED:20251108T192048Z
UID:10000017-1764295200-1764554399@agopmyrtali.gr
SUMMARY:Κύπελλο Ελλάδος στη Θεσσαλονίκη!
DESCRIPTION:Ο ΑΓΟΠ ΜΥΡΤΑΛΗ  ΣΥΜΜΕΤΕΧΕΙ ΣΤΟ ΕUROPEAN CHEER OPEN SUPER CUP! GO FOR IT!
URL:https://agopmyrtali.gr/event/kypello-ellados-sti-thessaloniki/
LOCATION:Alexandreion Melathron
CATEGORIES:ΚΥΠΕΛΛΟ ΕΛΛΑΔΟΣ
ATTACH;FMTTYPE=image/jpeg:https://agopmyrtali.gr/app/uploads/2025/11/548608570_18089312668816535_8371201226181588648_n.jpg
END:VEVENT
END:VCALENDAR