BEGIN:VCALENDAR
VERSION:2.0
PRODID:-//AGOP MYRTALI - ECPv6.5.2//NONSGML v1.0//EN
CALSCALE:GREGORIAN
METHOD:PUBLISH
X-WR-CALNAME:AGOP MYRTALI
X-ORIGINAL-URL:https://agopmyrtali.gr
X-WR-CALDESC:AGOP MYRTALI - Εκδηλώσεις
REFRESH-INTERVAL;VALUE=DURATION:PT1H
X-Robots-Tag:noindex
X-PUBLISHED-TTL:PT1H
BEGIN:VTIMEZONE
TZID:Europe/Athens
BEGIN:DAYLIGHT
TZOFFSETFROM:+0200
TZOFFSETTO:+0300
TZNAME:EEST
DTSTART:20250330T010000
END:DAYLIGHT
BEGIN:STANDARD
TZOFFSETFROM:+0300
TZOFFSETTO:+0200
TZNAME:EET
DTSTART:20251026T010000
END:STANDARD
END:VTIMEZONE
BEGIN:VEVENT
DTSTART;VALUE=DATE:20250627
DTEND;VALUE=DATE:20250701
DTSTAMP:20260423T220853
CREATED:20250330T165221Z
LAST-MODIFIED:20250330T173236Z
UID:10000015-1750993200-1751252399@agopmyrtali.gr
SUMMARY:Πανευρωπαικό Πρωτάθλημα Cheerleading Σλοβενία 2025!
DESCRIPTION:Ο ΑΓΟΠ ΜΥΡΤΑΛΗ  ΣΥΜΜΕΤΕΧΕΙ ΣΤΟ ΠΑΝΕΥΡΩΠΑΙΚΟ ΠΡΩΤΑΘΛΗΜΑ CHEERLEADING 2025 ΣΤΗ ΣΛΟΒΕΝΙΑ ΜΕ 2 ΟΜΑΔΕΣ (SENIOR & JUNIOR CHEER JAZZ 
URL:https://agopmyrtali.gr/event/panevropaiko-protathlima-cheerleading-slovenia-2025/
LOCATION:Hala Tivoli Ljubljana
CATEGORIES:ΠΑΝΕΥΡΩΠΑΪΚΑ ΠΡΩΤΑΘΛΗΜΑΤΑ
ATTACH;FMTTYPE=image/webp:https://agopmyrtali.gr/app/uploads/2025/03/ICU_Europeans_2025_logo_small.webp
END:VEVENT
END:VCALENDAR